BEGIN:VCALENDAR
VERSION:2.0
PRODID:-//Scouting Alphen aan den Rijn//NONSGML kigkonsult.se iCalcreator 2.41.92//
CALSCALE:GREGORIAN
METHOD:PUBLISH
UID:31643964-3833-4231-a462-653839333532
X-WR-CALNAME:iCagenda
X-WR-CALDESC:Event Management Extension for Joomla!
X-WR-RELCALID:3E26604A-50F4-4449-8B3E-E4F4932D05B5
X-WR-TIMEZONE:Europe/Amsterdam
BEGIN:VTIMEZONE
TZID:Europe/Amsterdam
TZUNTIL:20251026T010000Z
BEGIN:STANDARD
TZNAME:CET
DTSTART:20221030T030000
TZOFFSETFROM:+0200
TZOFFSETTO:+0100
RDATE:20231029T030000
RDATE:20241027T030000
END:STANDARD
BEGIN:DAYLIGHT
TZNAME:CEST
DTSTART:20230326T020000
TZOFFSETFROM:+0100
TZOFFSETTO:+0200
RDATE:20240331T020000
RDATE:20250330T020000
END:DAYLIGHT
END:VTIMEZONE
BEGIN:VEVENT
UID:37616636-6239-4537-b037-393466646561
DTSTAMP:20260423T163114Z
CATEGORIES:Verhuur
CLASS:PUBLIC
DESCRIPTION:
DTSTART:20231027T160000Z
DTEND:20231028T180000Z
GEO:00;0
LOCATION:
ORGANIZER:
SEQUENCE:1
SUMMARY:WST
TRANSP:OPAQUE
URL:https://www.scoutingalphen.nl/component/icagenda/216-wst-3
END:VEVENT
END:VCALENDAR
