BEGIN:VCALENDAR
VERSION:2.0
PRODID:-//Scouting Alphen aan den Rijn//NONSGML kigkonsult.se iCalcreator 2.41.92//
CALSCALE:GREGORIAN
METHOD:PUBLISH
UID:32313635-3035-4633-b631-316366393437
X-WR-CALNAME:iCagenda
X-WR-CALDESC:Event Management Extension for Joomla!
X-WR-RELCALID:3E26604A-50F4-4449-8B3E-E4F4932D05B5
X-WR-TIMEZONE:Europe/Amsterdam
BEGIN:VTIMEZONE
TZID:Europe/Amsterdam
TZUNTIL:20260329T010000Z
BEGIN:STANDARD
TZNAME:CET
DTSTART:20231029T030000
TZOFFSETFROM:+0200
TZOFFSETTO:+0100
RDATE:20241027T030000
RDATE:20251026T030000
END:STANDARD
BEGIN:DAYLIGHT
TZNAME:CEST
DTSTART:20240331T020000
TZOFFSETFROM:+0100
TZOFFSETTO:+0200
RDATE:20250330T020000
END:DAYLIGHT
END:VTIMEZONE
BEGIN:VEVENT
UID:37306232-3064-4535-a366-313562393134
DTSTAMP:20260423T113811Z
CATEGORIES:Verhuur
CLASS:PUBLIC
DESCRIPTION:
DTSTART:20240826T100000Z
DTEND:20240828T100000Z
GEO:00;0
LOCATION:
ORGANIZER:
SEQUENCE:1
SUMMARY:Studievereniging Awater
TRANSP:OPAQUE
URL:https://www.scoutingalphen.nl/component/icagenda/249-studievereniging-a
 water
END:VEVENT
END:VCALENDAR
