BEGIN:VCALENDAR
VERSION:2.0
PRODID:-//Scouting Alphen aan den Rijn//NONSGML kigkonsult.se iCalcreator 2.41.92//
CALSCALE:GREGORIAN
METHOD:PUBLISH
UID:35353735-6439-4131-b063-633231633530
X-WR-CALNAME:iCagenda
X-WR-CALDESC:Event Management Extension for Joomla!
X-WR-RELCALID:3E26604A-50F4-4449-8B3E-E4F4932D05B5
X-WR-TIMEZONE:Europe/Amsterdam
BEGIN:VTIMEZONE
TZID:Europe/Amsterdam
TZUNTIL:20261025T010000Z
BEGIN:STANDARD
TZNAME:CET
DTSTART:20241027T030000
TZOFFSETFROM:+0200
TZOFFSETTO:+0100
RDATE:20251026T030000
END:STANDARD
BEGIN:DAYLIGHT
TZNAME:CEST
DTSTART:20240331T020000
TZOFFSETFROM:+0100
TZOFFSETTO:+0200
RDATE:20250330T020000
RDATE:20260329T020000
END:DAYLIGHT
END:VTIMEZONE
BEGIN:VEVENT
UID:34383730-3066-4164-b363-646666646638
DTSTAMP:20260423T100502Z
CATEGORIES:Verhuur
CLASS:PUBLIC
DESCRIPTION:
DTSTART:20250117T170000Z
DTEND:20250118T140000Z
GEO:00;0
LOCATION:
ORGANIZER:
SEQUENCE:1
SUMMARY:Bevers
TRANSP:OPAQUE
URL:https://www.scoutingalphen.nl/component/icagenda/287-bevers-6
END:VEVENT
END:VCALENDAR
