BEGIN:VCALENDAR
VERSION:2.0
PRODID:-//Scouting Alphen aan den Rijn//NONSGML kigkonsult.se iCalcreator 2.41.92//
CALSCALE:GREGORIAN
METHOD:PUBLISH
UID:66336531-3231-4835-b232-316137366333
X-WR-CALNAME:iCagenda
X-WR-CALDESC:Event Management Extension for Joomla!
X-WR-RELCALID:3E26604A-50F4-4449-8B3E-E4F4932D05B5
X-WR-TIMEZONE:Europe/Amsterdam
BEGIN:VTIMEZONE
TZID:Europe/Amsterdam
TZUNTIL:20271031T010000Z
BEGIN:STANDARD
TZNAME:CET
DTSTART:20251026T030000
TZOFFSETFROM:+0200
TZOFFSETTO:+0100
RDATE:20261025T030000
END:STANDARD
BEGIN:DAYLIGHT
TZNAME:CEST
DTSTART:20250330T020000
TZOFFSETFROM:+0100
TZOFFSETTO:+0200
RDATE:20260329T020000
RDATE:20270328T020000
END:DAYLIGHT
END:VTIMEZONE
BEGIN:VEVENT
UID:36396565-3035-4237-a238-303463663161
DTSTAMP:20260423T100643Z
CATEGORIES:Verhuur
CLASS:PUBLIC
DESCRIPTION:
DTSTART:20251114T170000Z
DTEND:20251115T190000Z
GEO:00;0
LOCATION:
ORGANIZER:
SEQUENCE:1
SUMMARY:WHN
TRANSP:OPAQUE
URL:https://www.scoutingalphen.nl/component/icagenda/375-whn-5
END:VEVENT
END:VCALENDAR
