BEGIN:VCALENDAR
VERSION:2.0
PRODID:-//Scouting Alphen aan den Rijn//NONSGML kigkonsult.se iCalcreator 2.41.92//
CALSCALE:GREGORIAN
METHOD:PUBLISH
UID:64386532-3065-4133-b937-373136393537
X-WR-CALNAME:iCagenda
X-WR-CALDESC:Event Management Extension for Joomla!
X-WR-RELCALID:3E26604A-50F4-4449-8B3E-E4F4932D05B5
X-WR-TIMEZONE:Europe/Amsterdam
BEGIN:VTIMEZONE
TZID:Europe/Amsterdam
TZUNTIL:20290325T010000Z
BEGIN:STANDARD
TZNAME:CET
DTSTART:20261025T030000
TZOFFSETFROM:+0200
TZOFFSETTO:+0100
RDATE:20271031T030000
RDATE:20281029T030000
END:STANDARD
BEGIN:DAYLIGHT
TZNAME:CEST
DTSTART:20270328T020000
TZOFFSETFROM:+0100
TZOFFSETTO:+0200
RDATE:20280326T020000
END:DAYLIGHT
END:VTIMEZONE
BEGIN:VEVENT
UID:36363734-3730-4438-a534-346438613535
DTSTAMP:20260419T130812Z
CATEGORIES:Verhuur
CLASS:PUBLIC
DESCRIPTION:
DTSTART:20270717T110000Z
DTEND:20270724T090000Z
GEO:00;0
LOCATION:
ORGANIZER:
SEQUENCE:1
SUMMARY:Scouting Satoko Kitahara
TRANSP:OPAQUE
URL:https://www.scoutingalphen.nl/verhuur/verhuurkalender/361-scouting-sato
 ko-kitahara-2
END:VEVENT
END:VCALENDAR
